BEGIN:VCALENDAR
VERSION:2.0
PRODID:-//Tri-County Riding Club - ECPv6.2.1//NONSGML v1.0//EN
CALSCALE:GREGORIAN
METHOD:PUBLISH
X-ORIGINAL-URL:https://trc.avenue.org
X-WR-CALDESC:Events for Tri-County Riding Club
REFRESH-INTERVAL;VALUE=DURATION:PT1H
X-Robots-Tag:noindex
X-PUBLISHED-TTL:PT1H
BEGIN:VTIMEZONE
TZID:UTC
BEGIN:STANDARD
TZOFFSETFROM:+0000
TZOFFSETTO:+0000
TZNAME:UTC
DTSTART:20240101T000000
END:STANDARD
END:VTIMEZONE
BEGIN:VEVENT
DTSTART;VALUE=DATE:20240607
DTEND;VALUE=DATE:20240608
DTSTAMP:20260420T230936
CREATED:20230930T155351Z
LAST-MODIFIED:20230930T155351Z
UID:2168-1717718400-1717804799@trc.avenue.org
SUMMARY:Wedding
DESCRIPTION:
URL:https://trc.avenue.org/calendar/wedding/
END:VEVENT
BEGIN:VEVENT
DTSTART;VALUE=DATE:20240608
DTEND;VALUE=DATE:20240609
DTSTAMP:20260420T230936
CREATED:20230930T155440Z
LAST-MODIFIED:20230930T155440Z
UID:2170-1717804800-1717891199@trc.avenue.org
SUMMARY:Wedding
DESCRIPTION:
URL:https://trc.avenue.org/calendar/wedding-2/
END:VEVENT
BEGIN:VEVENT
DTSTART;TZID=UTC:20240608T080000
DTEND;TZID=UTC:20240608T170000
DTSTAMP:20260420T230936
CREATED:20240109T134328Z
LAST-MODIFIED:20240109T134328Z
UID:2205-1717833600-1717866000@trc.avenue.org
SUMMARY:Fletcher Dinner
DESCRIPTION:
URL:https://trc.avenue.org/calendar/fletcher-dinner/
END:VEVENT
BEGIN:VEVENT
DTSTART;VALUE=DATE:20240629
DTEND;VALUE=DATE:20240630
DTSTAMP:20260420T230936
CREATED:20240609T231635Z
LAST-MODIFIED:20240609T231635Z
UID:2215-1719619200-1719705599@trc.avenue.org
SUMMARY:Evan's Party
DESCRIPTION:
URL:https://trc.avenue.org/calendar/evans-party/
END:VEVENT
END:VCALENDAR