BEGIN:VCALENDAR
VERSION:2.0
PRODID:-//Tri-County Riding Club - ECPv6.2.1//NONSGML v1.0//EN
CALSCALE:GREGORIAN
METHOD:PUBLISH
X-ORIGINAL-URL:https://trc.avenue.org
X-WR-CALDESC:Events for Tri-County Riding Club
REFRESH-INTERVAL;VALUE=DURATION:PT1H
X-Robots-Tag:noindex
X-PUBLISHED-TTL:PT1H
BEGIN:VTIMEZONE
TZID:UTC
BEGIN:STANDARD
TZOFFSETFROM:+0000
TZOFFSETTO:+0000
TZNAME:UTC
DTSTART:20230101T000000
END:STANDARD
END:VTIMEZONE
BEGIN:VEVENT
DTSTART;TZID=UTC:20231209T180000
DTEND;TZID=UTC:20231209T200000
DTSTAMP:20260421T061111
CREATED:20230906T213132Z
LAST-MODIFIED:20231104T193401Z
UID:2154-1702144800-1702152000@trc.avenue.org
SUMMARY:Member's Christmas Party
DESCRIPTION:
URL:https://trc.avenue.org/calendar/member-dinner-2/
END:VEVENT
BEGIN:VEVENT
DTSTART;VALUE=DATE:20231215
DTEND;VALUE=DATE:20231216
DTSTAMP:20260421T061111
CREATED:20230930T151600Z
LAST-MODIFIED:20230930T151600Z
UID:2164-1702598400-1702684799@trc.avenue.org
SUMMARY:Rental Event
DESCRIPTION:
URL:https://trc.avenue.org/calendar/rental-event/
END:VEVENT
BEGIN:VEVENT
DTSTART;VALUE=DATE:20231215
DTEND;VALUE=DATE:20231217
DTSTAMP:20260421T061111
CREATED:20231212T005308Z
LAST-MODIFIED:20231212T005308Z
UID:2188-1702598400-1702771199@trc.avenue.org
SUMMARY:Club Rented
DESCRIPTION:
URL:https://trc.avenue.org/calendar/club-rented/
END:VEVENT
BEGIN:VEVENT
DTSTART;VALUE=DATE:20231216
DTEND;VALUE=DATE:20231217
DTSTAMP:20260421T061111
CREATED:20230930T151701Z
LAST-MODIFIED:20230930T151701Z
UID:2166-1702684800-1702771199@trc.avenue.org
SUMMARY:Rental Event
DESCRIPTION:
URL:https://trc.avenue.org/calendar/rental-event-2/
END:VEVENT
BEGIN:VEVENT
DTSTART;VALUE=DATE:20231230
DTEND;VALUE=DATE:20231231
DTSTAMP:20260421T061111
CREATED:20231212T005400Z
LAST-MODIFIED:20231212T005400Z
UID:2190-1703894400-1703980799@trc.avenue.org
SUMMARY:Club Rented
DESCRIPTION:
URL:https://trc.avenue.org/calendar/club-rented-2/
END:VEVENT
END:VCALENDAR