BEGIN:VCALENDAR
VERSION:2.0
PRODID:-//Tri-County Riding Club - ECPv6.2.1//NONSGML v1.0//EN
CALSCALE:GREGORIAN
METHOD:PUBLISH
X-ORIGINAL-URL:https://trc.avenue.org
X-WR-CALDESC:Events for Tri-County Riding Club
REFRESH-INTERVAL;VALUE=DURATION:PT1H
X-Robots-Tag:noindex
X-PUBLISHED-TTL:PT1H
BEGIN:VTIMEZONE
TZID:UTC
BEGIN:STANDARD
TZOFFSETFROM:+0000
TZOFFSETTO:+0000
TZNAME:UTC
DTSTART:20240101T000000
END:STANDARD
END:VTIMEZONE
BEGIN:VEVENT
DTSTART;TZID=UTC:20240113T180000
DTEND;TZID=UTC:20240113T210000
DTSTAMP:20260421T061058
CREATED:20240109T133619Z
LAST-MODIFIED:20240109T133619Z
UID:2195-1705168800-1705179600@trc.avenue.org
SUMMARY:Goodwin & Boettger Dinner
DESCRIPTION:
URL:https://trc.avenue.org/calendar/goodwin-boettger-dinner/
END:VEVENT
END:VCALENDAR